Package: sampleClassifier Version: 1.32.0 Command: /Library/Frameworks/R.framework/Resources/bin/R CMD check --install=check:sampleClassifier.install-out.txt --library=/Library/Frameworks/R.framework/Resources/library --no-vignettes --timings sampleClassifier_1.32.0.tar.gz StartedAt: 2025-10-14 09:40:24 -0400 (Tue, 14 Oct 2025) EndedAt: 2025-10-14 09:48:53 -0400 (Tue, 14 Oct 2025) EllapsedTime: 508.8 seconds RetCode: 0 Status: OK CheckDir: sampleClassifier.Rcheck Warnings: 0