Package: safe Version: 3.50.0 Command: /home/biocbuild/bbs-3.22-bioc/R/bin/R CMD build --keep-empty-dirs --no-resave-data --md5 safe StartedAt: 2025-11-11 19:55:10 -0500 (Tue, 11 Nov 2025) EndedAt: 2025-11-11 19:58:50 -0500 (Tue, 11 Nov 2025) EllapsedTime: 220.2 seconds RetCode: 0 Status: OK PackageFile: safe_3.50.0.tar.gz PackageFileSize: 715.1 KiB