Package: safe Version: 3.50.0 Command: /Library/Frameworks/R.framework/Resources/bin/R CMD INSTALL safe StartedAt: 2025-11-03 15:51:22 -0500 (Mon, 03 Nov 2025) EndedAt: 2025-11-03 15:51:42 -0500 (Mon, 03 Nov 2025) EllapsedTime: 20.7 seconds RetCode: 0 Status: OK