Package: sSeq Version: 1.48.0 Command: /home/biocbuild/R/R/bin/R CMD INSTALL sSeq StartedAt: 2025-11-20 21:48:36 -0000 (Thu, 20 Nov 2025) EndedAt: 2025-11-20 21:49:10 -0000 (Thu, 20 Nov 2025) EllapsedTime: 34.7 seconds RetCode: 0 Status: OK