Package: sSeq Version: 1.48.0 Command: /home/biocbuild/R/R/bin/R CMD build --keep-empty-dirs --no-resave-data sSeq StartedAt: 2025-11-21 06:17:01 -0000 (Fri, 21 Nov 2025) EndedAt: 2025-11-21 06:18:46 -0000 (Fri, 21 Nov 2025) EllapsedTime: 105.0 seconds RetCode: 0 Status: OK PackageFile: sSeq_1.48.0.tar.gz PackageFileSize: 4.194 MiB