Package: sSeq Version: 1.46.0 Command: /home/biocbuild/bbs-3.21-bioc/R/bin/R CMD INSTALL sSeq StartedAt: 2025-10-15 15:04:04 -0400 (Wed, 15 Oct 2025) EndedAt: 2025-10-15 15:04:14 -0400 (Wed, 15 Oct 2025) EllapsedTime: 9.4 seconds RetCode: 0 Status: OK