Package: sSeq Version: 1.46.0 Command: /home/biocbuild/bbs-3.21-bioc/R/bin/R CMD build --keep-empty-dirs --no-resave-data sSeq StartedAt: 2025-10-15 20:09:39 -0400 (Wed, 15 Oct 2025) EndedAt: 2025-10-15 20:10:45 -0400 (Wed, 15 Oct 2025) EllapsedTime: 66.1 seconds RetCode: 0 Status: OK PackageFile: sSeq_1.46.0.tar.gz PackageFileSize: 4.201 MiB