Package: sSNAPPY Version: 1.14.0 Command: /home/biocbuild/bbs-3.22-bioc/R/bin/R CMD INSTALL sSNAPPY StartedAt: 2025-11-11 15:38:25 -0500 (Tue, 11 Nov 2025) EndedAt: 2025-11-11 15:38:57 -0500 (Tue, 11 Nov 2025) EllapsedTime: 32.7 seconds RetCode: 0 Status: OK