Package: sSNAPPY Version: 1.14.0 Command: /home/biocbuild/bbs-3.22-bioc/R/bin/R CMD build --keep-empty-dirs --no-resave-data --md5 sSNAPPY StartedAt: 2025-11-11 20:30:32 -0500 (Tue, 11 Nov 2025) EndedAt: 2025-11-11 20:39:06 -0500 (Tue, 11 Nov 2025) EllapsedTime: 514.7 seconds RetCode: 0 Status: OK PackageFile: sSNAPPY_1.14.0.tar.gz PackageFileSize: 4.022 MiB