Package: sSNAPPY Version: 1.14.0 Command: /Library/Frameworks/R.framework/Resources/bin/R CMD INSTALL sSNAPPY StartedAt: 2025-11-03 15:18:58 -0500 (Mon, 03 Nov 2025) EndedAt: 2025-11-03 15:19:11 -0500 (Mon, 03 Nov 2025) EllapsedTime: 12.8 seconds RetCode: 0 Status: OK