Package: sSNAPPY Version: 1.14.0 Command: /Library/Frameworks/R.framework/Resources/bin/R CMD build --keep-empty-dirs --no-resave-data sSNAPPY StartedAt: 2025-11-02 17:53:49 -0500 (Sun, 02 Nov 2025) EndedAt: 2025-11-02 17:57:41 -0500 (Sun, 02 Nov 2025) EllapsedTime: 232.7 seconds RetCode: 0 Status: OK PackageFile: sSNAPPY_1.14.0.tar.gz PackageFileSize: 4.314 MiB