Package: sRACIPE Version: 2.2.0 Command: /Library/Frameworks/R.framework/Resources/bin/R CMD INSTALL sRACIPE StartedAt: 2025-11-10 15:11:13 -0500 (Mon, 10 Nov 2025) EndedAt: 2025-11-10 15:11:31 -0500 (Mon, 10 Nov 2025) EllapsedTime: 18.6 seconds RetCode: 0 Status: OK