Package: sRACIPE Version: 2.2.0 Command: /Library/Frameworks/R.framework/Resources/bin/R CMD build --keep-empty-dirs --no-resave-data sRACIPE StartedAt: 2025-11-10 17:54:18 -0500 (Mon, 10 Nov 2025) EndedAt: 2025-11-10 17:54:45 -0500 (Mon, 10 Nov 2025) EllapsedTime: 27.3 seconds RetCode: 0 Status: OK PackageFile: sRACIPE_2.2.0.tar.gz PackageFileSize: 1.93 MiB