Package: sRACIPE Version: 2.2.0 Command: rm -rf sRACIPE.buildbin-libdir && mkdir sRACIPE.buildbin-libdir && /Users/biocbuild/BBS/utils/build-universal.sh sRACIPE_2.2.0.tar.gz /Library/Frameworks/R.framework/Resources/bin/R sRACIPE.buildbin-libdir StartedAt: 2025-11-10 23:38:25 -0500 (Mon, 10 Nov 2025) EndedAt: 2025-11-10 23:38:45 -0500 (Mon, 10 Nov 2025) EllapsedTime: 20.4 seconds RetCode: 0 Status: OK PackageFile: sRACIPE_2.2.0.tgz PackageFileSize: 1.021 MiB