Package: rtracklayer Version: 1.70.0 Command: /home/biocbuild/bbs-3.22-bioc/R/bin/R CMD INSTALL rtracklayer StartedAt: 2025-11-11 15:30:00 -0500 (Tue, 11 Nov 2025) EndedAt: 2025-11-11 15:30:51 -0500 (Tue, 11 Nov 2025) EllapsedTime: 50.6 seconds RetCode: 0 Status: OK