Package: rtracklayer Version: 1.70.0 Command: /home/biocbuild/bbs-3.22-bioc/R/bin/R CMD check --install=check:rtracklayer.install-out.txt --library=/home/biocbuild/bbs-3.22-bioc/R/site-library --timings rtracklayer_1.70.0.tar.gz StartedAt: 2025-11-15 03:50:50 -0500 (Sat, 15 Nov 2025) EndedAt: 2025-11-15 03:56:57 -0500 (Sat, 15 Nov 2025) EllapsedTime: 366.4 seconds RetCode: 1 Status: ERROR CheckDir: rtracklayer.Rcheck Warnings: NA