Package: rtracklayer Version: 1.70.0 Command: /Library/Frameworks/R.framework/Resources/bin/R CMD INSTALL rtracklayer StartedAt: 2025-11-03 15:32:58 -0500 (Mon, 03 Nov 2025) EndedAt: 2025-11-03 15:34:10 -0500 (Mon, 03 Nov 2025) EllapsedTime: 71.7 seconds RetCode: 0 Status: OK