Package: rtracklayer Version: 1.68.0 Command: /home/biocbuild/R/R/bin/R CMD INSTALL rtracklayer StartedAt: 2025-10-13 20:39:46 -0000 (Mon, 13 Oct 2025) EndedAt: 2025-10-13 20:40:57 -0000 (Mon, 13 Oct 2025) EllapsedTime: 71.3 seconds RetCode: 0 Status: OK