Package: rtracklayer Version: 1.68.0 Command: /home/biocbuild/R/R/bin/R CMD build --keep-empty-dirs --no-resave-data rtracklayer StartedAt: 2025-10-14 04:15:00 -0000 (Tue, 14 Oct 2025) EndedAt: 2025-10-14 04:16:47 -0000 (Tue, 14 Oct 2025) EllapsedTime: 107.1 seconds RetCode: 0 Status: OK PackageFile: rtracklayer_1.68.0.tar.gz PackageFileSize: 3.89 MiB