Package: rsemmed Version: 1.20.0 Command: /home/biocbuild/bbs-3.22-bioc/R/bin/R CMD build --keep-empty-dirs --no-resave-data --md5 rsemmed StartedAt: 2025-11-13 19:51:03 -0500 (Thu, 13 Nov 2025) EndedAt: 2025-11-13 19:51:27 -0500 (Thu, 13 Nov 2025) EllapsedTime: 24.0 seconds RetCode: 0 Status: OK PackageFile: rsemmed_1.20.0.tar.gz PackageFileSize: 2.22 MiB