Package: rsbml Version: 2.68.0 Command: /home/biocbuild/bbs-3.22-bioc/R/bin/R CMD build --keep-empty-dirs --no-resave-data --md5 rsbml StartedAt: 2025-11-11 19:52:30 -0500 (Tue, 11 Nov 2025) EndedAt: 2025-11-11 19:52:50 -0500 (Tue, 11 Nov 2025) EllapsedTime: 20.0 seconds RetCode: 0 Status: OK PackageFile: rsbml_2.68.0.tar.gz PackageFileSize: 668.7 KiB