Package: rsbml Version: 2.66.0 Command: /home/biocbuild/bbs-3.21-bioc/R/bin/R CMD INSTALL rsbml StartedAt: 2025-10-15 15:11:45 -0400 (Wed, 15 Oct 2025) EndedAt: 2025-10-15 15:12:00 -0400 (Wed, 15 Oct 2025) EllapsedTime: 15.4 seconds RetCode: 0 Status: OK