Package: rsbml Version: 2.66.0 Command: /home/biocbuild/bbs-3.21-bioc/R/bin/R CMD build --keep-empty-dirs --no-resave-data rsbml StartedAt: 2025-10-15 19:35:27 -0400 (Wed, 15 Oct 2025) EndedAt: 2025-10-15 19:35:48 -0400 (Wed, 15 Oct 2025) EllapsedTime: 21.0 seconds RetCode: 0 Status: OK PackageFile: rsbml_2.66.0.tar.gz PackageFileSize: 662.8 KiB