Package: rsbml Version: 2.66.0 Command: /home/biocbuild/R/R/bin/R CMD INSTALL rsbml StartedAt: 2025-09-29 20:24:48 -0000 (Mon, 29 Sep 2025) EndedAt: 2025-09-29 20:24:51 -0000 (Mon, 29 Sep 2025) EllapsedTime: 3.2 seconds RetCode: 1 Status: ERROR