Package: rsbml Version: 2.68.0 Maintainer: Michael Lawrence MaintainerEmail: michafla at gene.com git_url: https://git.bioconductor.org/packages/rsbml git_branch: RELEASE_3_22 git_last_commit: 8d17d9d git_last_commit_date: 2025-10-29 09:59:55 -0500 (Wed, 29 Oct 2025)