Package: rrvgo Version: 1.22.0 Command: /home/biocbuild/bbs-3.22-bioc/R/bin/R CMD INSTALL rrvgo StartedAt: 2025-11-11 15:44:48 -0500 (Tue, 11 Nov 2025) EndedAt: 2025-11-11 15:45:08 -0500 (Tue, 11 Nov 2025) EllapsedTime: 20.8 seconds RetCode: 0 Status: OK