Package: rrvgo Version: 1.22.0 Command: /home/biocbuild/bbs-3.22-bioc/R/bin/R CMD build --keep-empty-dirs --no-resave-data --md5 rrvgo StartedAt: 2025-11-11 19:52:24 -0500 (Tue, 11 Nov 2025) EndedAt: 2025-11-11 19:54:57 -0500 (Tue, 11 Nov 2025) EllapsedTime: 153.1 seconds RetCode: 0 Status: OK PackageFile: rrvgo_1.22.0.tar.gz PackageFileSize: 1.989 MiB