Package: rqubic Version: 1.56.0 Command: /home/biocbuild/bbs-3.22-bioc/R/bin/R CMD build --keep-empty-dirs --no-resave-data --md5 rqubic StartedAt: 2025-11-11 19:52:15 -0500 (Tue, 11 Nov 2025) EndedAt: 2025-11-11 19:52:30 -0500 (Tue, 11 Nov 2025) EllapsedTime: 15.0 seconds RetCode: 0 Status: OK PackageFile: rqubic_1.56.0.tar.gz PackageFileSize: 191.6 KiB