Package: rqt Version: 1.36.0 Command: /home/biocbuild/bbs-3.22-bioc/R/bin/R CMD build --keep-empty-dirs --no-resave-data --md5 rqt StartedAt: 2025-11-11 19:52:12 -0500 (Tue, 11 Nov 2025) EndedAt: 2025-11-11 19:52:54 -0500 (Tue, 11 Nov 2025) EllapsedTime: 42.0 seconds RetCode: 0 Status: OK PackageFile: rqt_1.36.0.tar.gz PackageFileSize: 543.2 KiB