Package: rqt Version: 1.36.0 Command: /Library/Frameworks/R.framework/Resources/bin/R CMD build --keep-empty-dirs --no-resave-data rqt StartedAt: 2025-11-10 17:34:52 -0500 (Mon, 10 Nov 2025) EndedAt: 2025-11-10 17:35:13 -0500 (Mon, 10 Nov 2025) EllapsedTime: 20.3 seconds RetCode: 0 Status: OK PackageFile: rqt_1.36.0.tar.gz PackageFileSize: 541.2 KiB