Package: rqt Version: 1.36.0 Command: rm -rf rqt.buildbin-libdir && mkdir rqt.buildbin-libdir && /Users/biocbuild/BBS/utils/build-universal.sh rqt_1.36.0.tar.gz /Library/Frameworks/R.framework/Resources/bin/R rqt.buildbin-libdir StartedAt: 2025-11-10 23:34:32 -0500 (Mon, 10 Nov 2025) EndedAt: 2025-11-10 23:34:44 -0500 (Mon, 10 Nov 2025) EllapsedTime: 12.3 seconds RetCode: 0 Status: OK PackageFile: rqt_1.36.0.tgz PackageFileSize: 910.7 KiB