Package: rpx Version: 2.18.0 Command: /home/biocbuild/bbs-3.22-bioc/R/bin/R CMD INSTALL rpx StartedAt: 2025-11-14 15:10:42 -0500 (Fri, 14 Nov 2025) EndedAt: 2025-11-14 15:10:49 -0500 (Fri, 14 Nov 2025) EllapsedTime: 7.0 seconds RetCode: 0 Status: OK