Package: rpx Version: 2.18.0 Command: /Library/Frameworks/R.framework/Resources/bin/R CMD build --keep-empty-dirs --no-resave-data rpx StartedAt: 2025-11-10 17:34:48 -0500 (Mon, 10 Nov 2025) EndedAt: 2025-11-10 17:34:55 -0500 (Mon, 10 Nov 2025) EllapsedTime: 7.1 seconds RetCode: 0 Status: OK PackageFile: rpx_2.18.0.tar.gz PackageFileSize: 316.7 KiB