Package: rpx Version: 2.18.0 Command: rm -rf rpx.buildbin-libdir && mkdir rpx.buildbin-libdir && /Users/biocbuild/BBS/utils/build-universal.sh rpx_2.18.0.tar.gz /Library/Frameworks/R.framework/Resources/bin/R rpx.buildbin-libdir StartedAt: 2025-11-10 23:34:30 -0500 (Mon, 10 Nov 2025) EndedAt: 2025-11-10 23:34:33 -0500 (Mon, 10 Nov 2025) EllapsedTime: 3.1 seconds RetCode: 0 Status: OK PackageFile: rpx_2.18.0.tgz PackageFileSize: 487.2 KiB