Package: rprimer Version: 1.14.0 Command: /home/biocbuild/bbs-3.22-bioc/R/bin/R CMD INSTALL rprimer StartedAt: 2025-11-11 15:34:58 -0500 (Tue, 11 Nov 2025) EndedAt: 2025-11-11 15:35:17 -0500 (Tue, 11 Nov 2025) EllapsedTime: 18.9 seconds RetCode: 0 Status: OK