Package: rprimer Version: 1.12.0 Command: /home/biocbuild/R/R/bin/R CMD INSTALL rprimer StartedAt: 2025-10-13 20:45:19 -0000 (Mon, 13 Oct 2025) EndedAt: 2025-10-13 20:45:45 -0000 (Mon, 13 Oct 2025) EllapsedTime: 26.9 seconds RetCode: 0 Status: OK