Package: rprimer Version: 1.14.0 Maintainer: Sofia Persson MaintainerEmail: sofiapersson27 at gmail.com git_url: https://git.bioconductor.org/packages/rprimer git_branch: RELEASE_3_22 git_last_commit: d7001c1 git_last_commit_date: 2025-10-29 11:13:59 -0400 (Wed, 29 Oct 2025)