Package: ropls Version: 1.40.0 Command: /home/biocbuild/R/R/bin/R CMD INSTALL ropls StartedAt: 2025-10-13 20:34:33 -0000 (Mon, 13 Oct 2025) EndedAt: 2025-10-13 20:35:14 -0000 (Mon, 13 Oct 2025) EllapsedTime: 40.6 seconds RetCode: 0 Status: OK