Package: ropls Version: 1.42.0 Command: /Library/Frameworks/R.framework/Resources/bin/R CMD INSTALL ropls StartedAt: 2025-11-03 15:13:14 -0500 (Mon, 03 Nov 2025) EndedAt: 2025-11-03 15:13:26 -0500 (Mon, 03 Nov 2025) EllapsedTime: 11.6 seconds RetCode: 0 Status: OK