Package: ropls Version: 1.42.0 Command: /Library/Frameworks/R.framework/Resources/bin/R CMD build --keep-empty-dirs --no-resave-data ropls StartedAt: 2025-11-02 17:33:40 -0500 (Sun, 02 Nov 2025) EndedAt: 2025-11-02 17:34:08 -0500 (Sun, 02 Nov 2025) EllapsedTime: 28.3 seconds RetCode: 0 Status: OK PackageFile: ropls_1.42.0.tar.gz PackageFileSize: 5.542 MiB