Package: ropls Version: 1.42.0 Command: rm -rf ropls.buildbin-libdir && mkdir ropls.buildbin-libdir && /Users/biocbuild/BBS/utils/build-universal.sh ropls_1.42.0.tar.gz /Library/Frameworks/R.framework/Resources/bin/R ropls.buildbin-libdir StartedAt: 2025-10-31 23:21:22 -0400 (Fri, 31 Oct 2025) EndedAt: 2025-10-31 23:21:34 -0400 (Fri, 31 Oct 2025) EllapsedTime: 12.2 seconds RetCode: 0 Status: OK PackageFile: ropls_1.42.0.tgz PackageFileSize: 6.074 MiB