Back to Build/check report for BioC 3.22:   simplified   long
ABCDEFGHIJKLMNOPQ[R]STUVWXYZ

This page was generated on 2025-11-13 11:55 -0500 (Thu, 13 Nov 2025).

HostnameOSArch (*)R versionInstalled pkgs
taishanLinux (openEuler 24.03 LTS)aarch644.5.0 (2025-04-11) -- "How About a Twenty-Six" 4668
Click on any hostname to see more info about the system (e.g. compilers)      (*) as reported by 'uname -p', except on Windows and Mac OS X

All results for package ropls


To the developers/maintainers of the ropls package:
- Allow up to 24 hours (and sometimes 48 hours) for your latest push to git@git.bioconductor.org:packages/ropls.git to reflect on this report. See Troubleshooting Build Report for more information.
- Use the following Renviron settings to reproduce errors and warnings.
- If 'R CMD check' started to fail recently on the Linux builder(s) over a missing dependency, add the missing dependency to 'Suggests:' in your DESCRIPTION file. See Renviron.bioc for more information.

raw results

Package 1837/2361HostnameOS / ArchINSTALLBUILDCHECKBUILD BIN
ropls 1.42.0  (landing page)
Etienne A. Thevenot
Snapshot Date: 2025-11-12 13:45 -0500 (Wed, 12 Nov 2025)
git_url: https://git.bioconductor.org/packages/ropls
git_branch: RELEASE_3_22
git_last_commit: 7e60063
git_last_commit_date: 2025-10-29 10:26:49 -0500 (Wed, 29 Oct 2025)
taishanLinux (openEuler 24.03 LTS) / aarch64  OK    OK    OK  



Results for Bioconductor software packages that depend directly on package ropls

QUICK STATSOS / ArchINSTALLBUILDCHECKBUILD BIN
taishanLinux (openEuler 24.03 LTS) / aarch64
006
006
0114
Package 1/6HostnameOS / ArchINSTALLBUILDCHECKBUILD BIN
ASICS 2.26.0  (landing page)
Gaƫlle Lefort
git_last_commit: 3e46722
git_last_commit_date: 2025-10-29 10:44:17 -0500
taishanLinux (openEuler 24.03 LTS) / aarch64  OK    OK    WARNINGS  
Package 2/6HostnameOS / ArchINSTALLBUILDCHECKBUILD BIN
biosigner 1.38.0  (landing page)
Etienne A. Thevenot
git_last_commit: 0c86c9b
git_last_commit_date: 2025-10-29 10:30:29 -0500
taishanLinux (openEuler 24.03 LTS) / aarch64  OK    OK    ERROR  
Package 3/6HostnameOS / ArchINSTALLBUILDCHECKBUILD BIN
lipidr 2.24.0  (landing page)
Ahmed Mohamed
git_last_commit: 2e5e4b4
git_last_commit_date: 2025-10-29 10:51:46 -0500
taishanLinux (openEuler 24.03 LTS) / aarch64  OK    OK    OK  
Package 4/6HostnameOS / ArchINSTALLBUILDCHECKBUILD BIN
MultiBaC 1.20.0  (landing page)
The package maintainer
git_last_commit: e44e678
git_last_commit_date: 2025-10-29 11:00:41 -0500
taishanLinux (openEuler 24.03 LTS) / aarch64  OK    OK    OK  
Package 5/6HostnameOS / ArchINSTALLBUILDCHECKBUILD BIN
phenomis 1.12.0  (landing page)
Etienne A. Thevenot
git_last_commit: 7918c7b
git_last_commit_date: 2025-10-29 11:18:33 -0500
taishanLinux (openEuler 24.03 LTS) / aarch64  OK    OK    OK  
Package 6/6HostnameOS / ArchINSTALLBUILDCHECKBUILD BIN
rqt 1.36.0  (landing page)
Ilya Zhbannikov
git_last_commit: 6ab0990
git_last_commit_date: 2025-10-29 10:37:13 -0500
taishanLinux (openEuler 24.03 LTS) / aarch64  OK    OK    OK