Package: rols Version: 3.6.0 Command: /home/biocbuild/bbs-3.22-bioc/R/bin/R CMD build --keep-empty-dirs --no-resave-data --md5 rols StartedAt: 2025-11-06 19:43:19 -0500 (Thu, 06 Nov 2025) EndedAt: 2025-11-06 19:43:30 -0500 (Thu, 06 Nov 2025) EllapsedTime: 11.0 seconds RetCode: 1 Status: ERROR PackageFile: None PackageFileSize: NA