Package: rnaseqcomp Version: 1.38.0 Command: /home/biocbuild/bbs-3.21-bioc/R/bin/R CMD INSTALL rnaseqcomp StartedAt: 2025-09-28 15:19:26 -0400 (Sun, 28 Sep 2025) EndedAt: 2025-09-28 15:19:45 -0400 (Sun, 28 Sep 2025) EllapsedTime: 19.3 seconds RetCode: 0 Status: OK