Package: rnaEditr Version: 1.20.0 Command: /home/biocbuild/bbs-3.22-bioc/R/bin/R CMD INSTALL rnaEditr StartedAt: 2025-11-11 15:46:24 -0500 (Tue, 11 Nov 2025) EndedAt: 2025-11-11 15:47:01 -0500 (Tue, 11 Nov 2025) EllapsedTime: 37.1 seconds RetCode: 0 Status: OK