Package: rnaEditr Version: 1.18.0 Command: /home/biocbuild/bbs-3.21-bioc/R/bin/R CMD INSTALL rnaEditr StartedAt: 2025-10-15 15:39:58 -0400 (Wed, 15 Oct 2025) EndedAt: 2025-10-15 15:40:36 -0400 (Wed, 15 Oct 2025) EllapsedTime: 38.1 seconds RetCode: 0 Status: OK