Package: rnaEditr Version: 1.18.0 Command: /Library/Frameworks/R.framework/Resources/bin/R CMD build --keep-empty-dirs --no-resave-data rnaEditr StartedAt: 2025-04-21 17:28:00 -0400 (Mon, 21 Apr 2025) EndedAt: 2025-04-21 17:28:25 -0400 (Mon, 21 Apr 2025) EllapsedTime: 25.3 seconds RetCode: 0 Status: OK PackageFile: rnaEditr_1.18.0.tar.gz PackageFileSize: 1.085 MiB