Package: rmspc Version: 1.16.0 Command: /home/biocbuild/bbs-3.22-bioc/R/bin/R CMD build --keep-empty-dirs --no-resave-data --md5 rmspc StartedAt: 2025-11-11 19:48:25 -0500 (Tue, 11 Nov 2025) EndedAt: 2025-11-11 19:49:50 -0500 (Tue, 11 Nov 2025) EllapsedTime: 85.1 seconds RetCode: 0 Status: OK PackageFile: rmspc_1.16.0.tar.gz PackageFileSize: 2.177 MiB