Package: rmspc Version: 1.14.0 Command: /home/biocbuild/R/R/bin/R CMD INSTALL rmspc StartedAt: 2025-10-09 20:42:20 -0000 (Thu, 09 Oct 2025) EndedAt: 2025-10-09 20:42:59 -0000 (Thu, 09 Oct 2025) EllapsedTime: 39.5 seconds RetCode: 0 Status: OK