Package: rmspc Version: 1.14.0 Command: /home/biocbuild/R/R/bin/R CMD build --keep-empty-dirs --no-resave-data rmspc StartedAt: 2025-10-10 04:01:20 -0000 (Fri, 10 Oct 2025) EndedAt: 2025-10-10 04:03:17 -0000 (Fri, 10 Oct 2025) EllapsedTime: 117.0 seconds RetCode: 0 Status: OK PackageFile: rmspc_1.14.0.tar.gz PackageFileSize: 2.2 MiB